BEGIN:VCALENDAR
VERSION:2.0
PRODID:-//wp-events-plugin.com//7.2.3.1//EN
BEGIN:VEVENT
UID:1@cmsweb.org
DTSTART:20230509T010000Z
DTEND:20230509T030000Z
DTSTAMP:20230418T021133Z
URL:https://cmsweb.org/events/alissa-allen-myco-pigments/
SUMMARY:Alissa Allen: Myco Pigments
DESCRIPTION:Topic: Myco Pigments\n\nWho: Alissa Allen\n\nWhere: Gates Hall\
 , Denver Botanic Gardens\n\nWhen: 7:00PM -9:00PM
ATTACH;FMTTYPE=image/jpeg:https://cmsweb.org/wp-content/uploads/2018/01/CM
 S_Home-CO-Overlay-2.jpg
CATEGORIES:Meeting
LOCATION:Gates Hall - Denver Botanic Gardens\, 1007 York St\, Denver\, CO\,
  80206\, United States
X-APPLE-STRUCTURED-LOCATION;VALUE=URI;X-ADDRESS=1007 York St\, Denver\, CO\
 , 80206\, United States;X-APPLE-RADIUS=100;X-TITLE=Gates Hall - Denver Bot
 anic Gardens:geo:0,0
END:VEVENT
END:VCALENDAR