BEGIN:VCALENDAR
VERSION:2.0
PRODID:-//wp-events-plugin.com//7.2.3.1//EN
BEGIN:VEVENT
UID:148@cmsweb.org
DTSTART:20240824T000000Z
DTEND:20240824T020000Z
DTSTAMP:20240819T030959Z
URL:https://cmsweb.org/events/andrew-wilson-inspirational-fungi-mystical-a
 nd-mysterious-medicinal-mushrooms-910-arts-mushroom-month/
SUMMARY:Andrew Wilson - Inspirational Fungi: Mystical and Mysterious Medici
 nal Mushrooms @ 910 Arts' Mushroom Month
DESCRIPTION:910 Arts on Santa Fe is having Mushroom Month\, and hosting our
  own Andrew Wilson!\n\nDr. Wilson will be presenting a talk "Mystical and 
 Mysterious Medicinal Mushrooms"\, and will also be bringing cultured and o
 ther fungi for show and tell.\n\n"Don't miss out on this unique opportunit
 y to learn from an expert and immerse yourself in the world of mushrooms. 
 Mushrooms inspire art and are used in creating art.Visit 910 arts througho
 ut the month and enjoy mushrooms on the walls. This is a free event. Mushr
 oom snacks will be provided.
ATTACH;FMTTYPE=image/jpeg:https://cmsweb.org/wp-content/uploads/2024/08/Sq
 uare-Inspirational-fungi-talk.jpeg
CATEGORIES:Meeting
END:VEVENT
END:VCALENDAR