BEGIN:VCALENDAR
VERSION:2.0
PRODID:-//wp-events-plugin.com//7.2.3.1//EN
BEGIN:VEVENT
UID:74@cmsweb.org
DTSTART:20240709T010000Z
DTEND:20240709T030000Z
DTSTAMP:20240708T030339Z
URL:https://cmsweb.org/events/bioluminescent-fungi-with-brian-perry/
SUMMARY:Brian Perry: Illuminating Fungi - the Science of Fungal Bioluminesc
 ence
DESCRIPTION:Fungal bioluminescence was first described by Aristotle (384-32
 2 B.C.E.)\, and continues to fascinate and puzzle scientists today. While 
 over 125 species of fungi are known to produce luminescent mushrooms or my
 celium\, the chemical and genetic basis of the light-producing reaction wa
 s only recently discovered\, and the reason these fungi glow remains somew
 hat of a mystery. Come learn about our current understanding of the evolut
 ion\, ecology and biochemistry of this phenomenon. And yes\, there will be
  lots of pictures of glowing mushrooms!\n\nBrian Perry is a Professor of 
 Biology at California State University East Bay\, and Director of the HAY 
 Fungarium. He received his Master's Degree from San Francisco State Univer
 sity under the guidance of Dr. Dennis E. Desjardin\, and his Ph.D. from Ha
 rvard University where he studied with Dr. Donald H. Pfister. Brian has be
 en studying fungi since 1995\, and has published over 45 papers in scienti
 fic journals. In addition to studying the evolution of fungal bioluminesce
 nce\, he also conducts research on mushrooms and other fungi of Vanuatu\, 
 the assembly and biogeography of island fungal communities\, endophytic fu
 ngi\, and the systematics of Mycena and allied genera. Brian teaches sev
 eral mycology courses at Cal State East Bay and the Sierra Nevada Field Ca
 mpus.\nStreaming:\nJoin Zoom Meeting\nhttps://us02web.zoom.us/j/8896485560
 1?pwd=R3N2Skg0UWFYYkoyS0dXeGkrRWlFUT09\n\nMeeting ID: 889 6485 5601\nPassc
 ode: 334787
ATTACH;FMTTYPE=image/jpeg:https://cmsweb.org/wp-content/uploads/2018/01/CM
 S_Home-CO-Overlay-2.jpg
CATEGORIES:Meeting
LOCATION:Sturm Auditorium - Denver Botanic Gardens\, 1085 York St\, Denver\
 , CO\, 80206\, United States
X-APPLE-STRUCTURED-LOCATION;VALUE=URI;X-ADDRESS=1085 York St\, Denver\, CO\
 , 80206\, United States;X-APPLE-RADIUS=100;X-TITLE=Sturm Auditorium - Denv
 er Botanic Gardens:geo:0,0
END:VEVENT
END:VCALENDAR