BEGIN:VCALENDAR
VERSION:2.0
PRODID:-//wp-events-plugin.com//7.2.3.1//EN
BEGIN:VEVENT
UID:7@cmsweb.org
DTSTART:20230912T010000Z
DTEND:20230912T030000Z
DTSTAMP:20230902T035044Z
URL:https://cmsweb.org/events/cms-cook-taste-potluck-2023/
SUMMARY:CMS Cook & Taste Potluck 2023
DESCRIPTION:Annual CMS Cook &amp\; Taste Potluck!\n\nDenver Botanic Gardens
 : Mitchell Hall (where we used to meet).\n\nAfter 7PM enter via Piñon Gat
 e (to the right of main entrance)\n\n 	\n\n 	7:00 pm– Cook and Taste Set
 up\n 	7:15 pm– Dining Begins (If you are bringing food\, please arrive b
 y 7pm)\n\n\n\nPresented by: CMS Members\n-Please Note\, this is a CMS memb
 er-only event which is included in your membership. Guests are welcomed if
  they\njoin the Society prior to the event.\n\n 	Members are encouraged to
  bring a mushroom dish to share with other members.\n 	**Only the followin
 g mushroom species may be used**\n\n 	Boletus Barrowsii\, Boletus Edulis\,
  Boletus Rupriceps (Porcini)\, Cantharellus sp. (Chantrelle)\, Coprinus Co
 matus\, Dentinum Repandum (Hydnum\nRepandum)\, Flammulina Velutipes\, Sarc
 ondon Imbricatus\, Lactarius Deliciosus\, Marasmius Oreades\,\nMatsutake :
  Tricholoma Murrillianum\, Morchella species\, Pleurotus Ostreatus\, Albat
 rellus Ovinus\, Albatrellus Confluens (Sheep mushroom)\n 	Any mushrooms fr
 om a grocery store\n\n\n 	All the dishes brought to the Cook &amp\; Taste 
 must follow these rules:\n- All mushrooms must be well cooked. Raw mushroo
 ms will not be allowed in any dish.\n- Use only one species of mushroom in
  each dish.\n- A written recipe prominently showing the species of mushroo
 m in the dish and the cook's name MUST\naccompany each dish.\n- **Leccinum
  (including the “Aspen Bolete”) species are not allowed.**\n\nPLEASE B
 RING A FEW OF YOUR RECIPE MUSHROOMS COOKED\, IF YOU CAN\, SO WE CAN\nTASTE
  THE MUSHROOM ALONE BEFORE FEASTING. INCLUDE THE NAME OF THE\nMUSHROOM. TH
 IS IS NOT REQUIRED!\n\nThose who have no time to cook or cannot cook may b
 ring drinks\, desserts\, salads\, or bread\n(prepared food from the grocer
 y is fine.) Here are a couple Websites for fabulous recipe ideas.\n\n-http
 ://www.cmsweb.org\n\n-http://hazeldellmushrooms.com\n\nIf you have a suppl
 y of a good\, common edible species of mushroom\, but it isn't on the list
  above\, call Jon\nSommer at 303-947-3638. All exceptions must be approved
  in advance of the Cook &amp\; Taste!\n\nIf you have any questions call: J
 on Sommer 303-947-3638 or e-mail at president@cmsweb.org
ATTACH;FMTTYPE=image/jpeg:https://cmsweb.org/wp-content/uploads/2018/01/CM
 S_Home-CO-Overlay-2.jpg
CATEGORIES:Meeting
LOCATION:Mitchell Hall - Denver Botanic Gardens\, 1085 York St\, Denver\, C
 O\, 80206\, United States
X-APPLE-STRUCTURED-LOCATION;VALUE=URI;X-ADDRESS=1085 York St\, Denver\, CO\
 , 80206\, United States;X-APPLE-RADIUS=100;X-TITLE=Mitchell Hall - Denver 
 Botanic Gardens:geo:0,0
END:VEVENT
END:VCALENDAR