BEGIN:VCALENDAR
VERSION:2.0
PRODID:-//wp-events-plugin.com//7.2.3.1//EN
BEGIN:VEVENT
UID:79@cmsweb.org
DTSTART:20240811T170000Z
DTEND:20240811T230000Z
DTSTAMP:20240221T001652Z
URL:https://cmsweb.org/events/cms-fair/
SUMMARY:CMS Fair
DESCRIPTION:Setup and load in Mitchell Hall
ATTACH;FMTTYPE=image/jpeg:https://cmsweb.org/wp-content/uploads/2018/01/CM
 S_Home-CO-Overlay-2.jpg
CATEGORIES:Fair
LOCATION:Mitchell Hall - Denver Botanic Gardens\, 1085 York St\, Denver\, C
 O\, 80206\, United States
X-APPLE-STRUCTURED-LOCATION;VALUE=URI;X-ADDRESS=1085 York St\, Denver\, CO\
 , 80206\, United States;X-APPLE-RADIUS=100;X-TITLE=Mitchell Hall - Denver 
 Botanic Gardens:geo:0,0
END:VEVENT
END:VCALENDAR