BEGIN:VCALENDAR
VERSION:2.0
PRODID:-//wp-events-plugin.com//7.2.3.1//EN
BEGIN:VEVENT
UID:8@cmsweb.org
DTSTART:20231010T010000Z
DTEND:20231010T030000Z
DTSTAMP:20231006T000247Z
URL:https://cmsweb.org/events/cms-meeting-topic-tbd/
SUMMARY:Ed Lubow: Interesting Mushrooms of the Rocky Mountains
DESCRIPTION:CMS Meeting: October 9 - Interesting Mushrooms of the Rocky Mou
 ntains\n\nLong-time CMS member and mushroom expert Ed Lubow will talk abou
 t interesting mushrooms in the Rocky Mountains and elsewhere. NOT TO BE MI
 SSED!\n\nJoin Zoom Meeting\nhttps://us02web.zoom.us/j/81968654974?pwd=OC9Z
 RGhmbjJyNVN3ZnE1VnYrdURNZz09\n\nMeeting ID: 819 6865 4974\nPasscode: 64842
 6
ATTACH;FMTTYPE=image/jpeg:https://cmsweb.org/wp-content/uploads/2018/01/CM
 S_Home-CO-Overlay-2.jpg
CATEGORIES:Meeting
LOCATION:Sturm Auditorium - Denver Botanic Gardens\, 1085 York St\, Denver\
 , CO\, 80206\, United States
X-APPLE-STRUCTURED-LOCATION;VALUE=URI;X-ADDRESS=1085 York St\, Denver\, CO\
 , 80206\, United States;X-APPLE-RADIUS=100;X-TITLE=Sturm Auditorium - Denv
 er Botanic Gardens:geo:0,0
END:VEVENT
END:VCALENDAR