BEGIN:VCALENDAR
VERSION:2.0
PRODID:-//wp-events-plugin.com//7.2.3.1//EN
BEGIN:VEVENT
UID:6@cmsweb.org
DTSTART:20230806T170000Z
DTEND:20230806T230000Z
DTSTAMP:20230728T211119Z
URL:https://cmsweb.org/events/cms-mushroom-fair-2023/
SUMMARY:&#x1f344\; CMS Mushroom Fair 2023 &#x1f344\;
DESCRIPTION:The Colorado Mycological Society Mushroom Fair is a once a year
  celebration of the wonderful world of fungi. Come see a diverse display o
 f 100’s of mushrooms from the Southern Rocky Mountain Region\, and learn
  about their ecology and identification. There will also be demonstrations
  on mushroom cultivation\, information on mushroom toxicology\, and even a
  kids corner. We will have a craft workshop and expert mushroom identifier
 s to help you with your mushroom questions.\n\nWe are also happy to announ
 ce our chief identifier and expert cultivator Tavis Lynch:\n\nTavis Lynch 
 has been studying mushrooms for over three decades and teaches several myc
 ology classes throughout the Upper Midwest. He is a regular guest on Wisco
 nsin Public Radio and has been featured on "Around the Farm The Farm Table
 " on PBS. He owns and operates a large scale mushroom farm in the north wo
 ods\, growing mushrooms with a unique method that he developed. He is the 
 author of Mushroom Cultivation (Quarto) and the co-author of The Beginner'
 s Guide to Mushrooms (Quarto).\n\nThis is our big Annual event\, so don’
 t miss it!\n\nThe Fair is FREE with regular Denver Botanic Gardens admissi
 on.
ATTACH;FMTTYPE=image/jpeg:https://cmsweb.org/wp-content/uploads/2018/01/CM
 S_Home-CO-Overlay-2.jpg
CATEGORIES:Fair
LOCATION:Mitchell Hall - Denver Botanic Gardens\, 1085 York St\, Denver\, C
 O\, 80206\, United States
X-APPLE-STRUCTURED-LOCATION;VALUE=URI;X-ADDRESS=1085 York St\, Denver\, CO\
 , 80206\, United States;X-APPLE-RADIUS=100;X-TITLE=Mitchell Hall - Denver 
 Botanic Gardens:geo:0,0
END:VEVENT
END:VCALENDAR