BEGIN:VCALENDAR
VERSION:2.0
PRODID:-//wp-events-plugin.com//7.2.3.1//EN
BEGIN:VEVENT
UID:81@cmsweb.org
DTSTART:20240801T010000Z
DTEND:20240801T033000Z
DTSTAMP:20240506T173946Z
URL:https://cmsweb.org/events/intermediate-mushroom-id-class-july-31-augus
 t-7/
SUMMARY:Intermediate Mushroom ID Class - July 31\, August 7
DESCRIPTION:The intermediate class will include the above\, plus current F
 amily &amp\; Generic concepts in mushroom taxonomy\, differentiating impor
 tant Colorado species\, habitat-specific importance\, poisonous and edible
  mushrooms in our area\, introduction to micro-chemical tests.\n\nClassroo
 m session 1: July 31\n\nField session: See your confirmation email to sign
 up for a foray date! You will be able to select one of August 17\, 18\, 24
 \, or 25. \n\nClassroom session 2: August 7\n\nThis class is NOT intended
  for beginning students.  You MUST have some knowledge of mushroom identi
 fication\, and be able to recognize on sight at least the following specie
 s of mushrooms: Amanita muscaria\, Boletus edulis\, Cantharellus cibarius 
 (or related)\, Coprinus comatus\, Morchella species(to genus only).  PLE
 ASE DO NOT REGISTER INTO THIS CLASS IF YOU ARE A BEGINNER\n\nThe instructo
 r\n\nJon Sommer has been a member of CMS since 1993\, is the immediate Pas
 t-President and is President-elect. Jon received degrees in Botany &amp\; 
 Plant Pathology (mycology) from Humboldt State University and The Universi
 ty of California\, Davis. He has taught mushroom classes and given talks a
 nd lectures in mycological topics around the country since 1970’s.\n\nFo
 r further information\, contact Jon Sommer: jon@jsorealty.net
ATTACH;FMTTYPE=image/jpeg:https://cmsweb.org/wp-content/uploads/2018/01/CM
 S_Home-CO-Overlay-2.jpg
CATEGORIES:Class
LOCATION:St Joseph’s Hospital Russell Pavilion Rainer Auditorium\, 1375 E
  19th Ave\, Denver\, CO\, 80218\, United States
X-APPLE-STRUCTURED-LOCATION;VALUE=URI;X-ADDRESS=1375 E 19th Ave\, Denver\, 
 CO\, 80218\, United States;X-APPLE-RADIUS=100;X-TITLE=St Joseph’s Hospit
 al Russell Pavilion Rainer Auditorium:geo:0,0
END:VEVENT
END:VCALENDAR