BEGIN:VCALENDAR
VERSION:2.0
PRODID:-//wp-events-plugin.com//7.2.3.1//EN
BEGIN:VEVENT
UID:63@cmsweb.org
DTSTART:20230721T010000Z
DTEND:20230721T031500Z
DTSTAMP:20230717T223905Z
URL:https://cmsweb.org/events/july-20-intermediate-mushroom-id-class/
SUMMARY:Intermediate Mushroom ID Class - July 20\, August 3
DESCRIPTION:The intermediate class will include the above\, plus current F
 amily &amp\; Generic concepts in mushroom taxonomy\, differentiating impor
 tant Colorado species\, habitat-specific importance\, poisonous and edible
  mushrooms in our area\, introduction to micro-chemical tests.\n\nClassroo
 m session 1: July 20\n\nField session: See your confirmation email to sign
 up for a foray date! You will be able to select one of July 22\, July 23\,
  or July 30.\n\nClassroom session 2: August 3\n\nThis class is NOT intende
 d for beginning students.  You MUST have some knowledge of mushroom ident
 ification\, and be able to recognize on sight at least the following speci
 es of mushrooms: Amanita muscaria\, Boletus edulis\, Cantharellus cibarius
  (or related)\, Coprinus comatus\, Morchella species(to genus only).  PL
 EASE DO NOT REGISTER INTO THIS CLASS IF YOU ARE A BEGINNER\n\nThe instruct
 or\n\nJon Sommer has been a member of CMS since 1993\, is the immediate Pa
 st-President and is President-elect. Jon received degrees in Botany &amp\;
  Plant Pathology (mycology) from Humboldt State University and The Univers
 ity of California\, Davis. He has taught mushroom classes and given talks 
 and lectures in mycological topics around the country since 1970’s.\n\nF
 or further information\, contact Jon Sommer: jon@jsorealty.net
ATTACH;FMTTYPE=image/jpeg:https://cmsweb.org/wp-content/uploads/2018/01/CM
 S_Home-CO-Overlay-2.jpg
CATEGORIES:Class
LOCATION:St Joseph’s Hospital Russell Pavilion ‘Volunteer A&B Conferenc
 e Rooms’\, 1375 E 19th Ave\, Denver\, CO\, 80218\, United States
X-APPLE-STRUCTURED-LOCATION;VALUE=URI;X-ADDRESS=1375 E 19th Ave\, Denver\, 
 CO\, 80218\, United States;X-APPLE-RADIUS=100;X-TITLE=St Joseph’s Hospit
 al Russell Pavilion ‘Volunteer A&B Conference Rooms’:geo:0,0
END:VEVENT
END:VCALENDAR