BEGIN:VCALENDAR
VERSION:2.0
PRODID:-//wp-events-plugin.com//7.2.3.1//EN
BEGIN:VEVENT
UID:240@cmsweb.org
DTSTART:20261013T010000Z
DTEND:20261013T030000Z
DTSTAMP:20260415T035039Z
URL:https://cmsweb.org/events/october-meeting-alisha-quandt-tbd/
SUMMARY:October Meeting - Alisha Quandt: TBD
DESCRIPTION:\nWhen: Monday\, October 12\, 2026 7–9PM (7–7:30 Social Tim
 e\, 7:30–9 Presentation)\n\n\n\nWhere: DBG Classroom\n\n\n\nWhat:\n\n\n\
 nSpeaker Bio\n\n\n\nAlisha Quandt\n\n\n\nPresentation\n\n\n\nTBD\n\n\n\nTB
 D\nZoom:\nhttps://us02web.zoom.us/j/84113035852?pwd=yXNHTb8LKemWYNngXQITD6
 7O0j5ByH.1\n
ATTACH;FMTTYPE=image/jpeg:https://cmsweb.org/wp-content/uploads/2018/01/CM
 S_Home-CO-Overlay-2.jpg
CATEGORIES:Meeting
END:VEVENT
END:VCALENDAR