BEGIN:VCALENDAR
VERSION:2.0
PRODID:-//wp-events-plugin.com//7.2.3.1//EN
BEGIN:VEVENT
UID:73@cmsweb.org
DTSTART:20240611T010000Z
DTEND:20240611T030000Z
DTSTAMP:20240611T001358Z
URL:https://cmsweb.org/events/our-foraging-book-with-ed-lubow/
SUMMARY:Our Foraging Book with Ed Lubow
DESCRIPTION:Ed will talk through the new book written by CMS and Pikes Peak
 !\n\nStreaming:\nJoin Zoom Meeting\nhttps://us02web.zoom.us/j/88964855601?
 pwd=R3N2Skg0UWFYYkoyS0dXeGkrRWlFUT09\n\nMeeting ID: 889 6485 5601\nPasscod
 e: 334787
ATTACH;FMTTYPE=image/jpeg:https://cmsweb.org/wp-content/uploads/2018/01/CM
 S_Home-CO-Overlay-2.jpg
CATEGORIES:Meeting
LOCATION:Sturm Auditorium - Denver Botanic Gardens\, 1085 York St\, Denver\
 , CO\, 80206\, United States
X-APPLE-STRUCTURED-LOCATION;VALUE=URI;X-ADDRESS=1085 York St\, Denver\, CO\
 , 80206\, United States;X-APPLE-RADIUS=100;X-TITLE=Sturm Auditorium - Denv
 er Botanic Gardens:geo:0,0
END:VEVENT
END:VCALENDAR