BEGIN:VCALENDAR
VERSION:2.0
PRODID:-//wp-events-plugin.com//7.2.3.1//EN
BEGIN:VEVENT
UID:72@cmsweb.org
DTSTART:20240514T010000Z
DTEND:20240514T030000Z
DTSTAMP:20240430T153303Z
URL:https://cmsweb.org/events/psilocybe-with-paxton-hoag/
SUMMARY:”Discovering Psilocybe azurescens” with Paxton Hoag
DESCRIPTION:In the mid 1970s Paxton Hoag was living next to 115 acres of bo
 ttom land cow pasture in Astoria\, Oregon and took up picking Psilocybe s
 emilanceata. In 1975 his family went to the First International Conference
  on Psilocybin Mushrooms where he met many of the early principals of Psil
 ocybin research. In the fall of 1977 Paxton ran across an unknown Psilocyb
 e mushroom on the shores of Astoria Oregon. The story of getting a name fo
 r a mushroom is quite interesting\, especially if that mushroom is Psiloc
 ybe azurescens. This is that story\; plus of course a few side stories.\nA
 bout the Speaker\nPaxon Hoag grew up outside of Astoria Oregon in a small 
 community named Fernhill. His father was in the US Navy\, and was transfer
 red to Astoria in 1954 and retired in 1958. Encouraged by his parents\, Pa
 xton was fascinated by mushrooms at an early age. He loved exploring all o
 f the mushrooms that grew in his neighborhood\; and read everything he cou
 ld find in the library about fungi. He attended Oregon State University\, 
 but is mostly self taught. He dabbled in agar culture and lab work and fin
 ally ended up with outdoor cultivation of Psilocybe azurescens.\nMeeting 
 Entry Reminder: All entry and exit for after hours plant society meetings 
 will now go through the Freyer – Newman Center main entrance. The Pinon 
 Gate will be closed no matter the location of the meeting.\n\nStreaming:\n
 Join Zoom Meeting\nhttps://us02web.zoom.us/j/88964855601?pwd=R3N2Skg0UWFYY
 koyS0dXeGkrRWlFUT09\n\nMeeting ID: 889 6485 5601\nPasscode: 334787
ATTACH;FMTTYPE=image/jpeg:https://cmsweb.org/wp-content/uploads/2018/01/CM
 S_Home-CO-Overlay-2.jpg
CATEGORIES:Meeting
LOCATION:Sturm Auditorium - Denver Botanic Gardens\, 1085 York St\, Denver\
 , CO\, 80206\, United States
X-APPLE-STRUCTURED-LOCATION;VALUE=URI;X-ADDRESS=1085 York St\, Denver\, CO\
 , 80206\, United States;X-APPLE-RADIUS=100;X-TITLE=Sturm Auditorium - Denv
 er Botanic Gardens:geo:0,0
END:VEVENT
END:VCALENDAR