BEGIN:VCALENDAR
VERSION:2.0
PRODID:-//wp-events-plugin.com//7.2.3.1//EN
BEGIN:VEVENT
UID:70@cmsweb.org
DTSTART:20240312T010000Z
DTEND:20240312T030000Z
DTSTAMP:20240306T041151Z
URL:https://cmsweb.org/events/sarcodon-research-with-justin-loucks/
SUMMARY:Purple Hedgehogs & Black Bear’s-Paws: Exploring rare mushrooms in
  the family Bankeraceae
DESCRIPTION:Talk Description: In North America\, the fungal family Bankera
 ceae includes the genera Sarcodon\, Hydnellum\, Phellodon\, and Boletopsis
 . This family contains well-known (and not-so-well-known) edible species\,
  as well as highly prized dye-mushrooms. Bankeraceae is also known for its
  many rare species which are experiencing reported population declines acr
 oss the globe. This talk covers recent and on-going research to describe t
 he diversity of Bankeraceae species in western North America. Additionally
 \, Justin will be highlighting the many contributions of rare and unique f
 ungal collections made by Colorado Mycological Society and Pikes Peak Myco
 logical Society members\, which have been foundational to this project.\n\
 n[caption id="attachment_79580" align="alignleft" width="300"] Justin Louc
 ks[/caption]\n\nBio: Justin Loucks is a mycologist and all-around fungal 
 enthusiast. Currently\, he is a master’s student with University of Colo
 rado Denver and Denver Botanic Gardens\, studying species diversity in the
  fungal family Bankeraceae. He has been a member of the Colorado Mycologic
 al Society since 2018 and loves finding rare and uncommon fungi in unique 
 habitats.\n\n&nbsp\;\n\nMeeting Entry Reminder: All entry and exit for aft
 er hours plant society meetings will now go through the Freyer – Newman 
 Center main entrance. The Pinon Gate will be closed no matter the location
  of the meeting.\n\n&nbsp\;\n\n&nbsp\;\n\n&nbsp\;\n\n&nbsp\;\n\nStreaming:
 \nJoin Zoom Meeting\nhttps://us02web.zoom.us/j/88964855601?pwd=R3N2Skg0UWF
 YYkoyS0dXeGkrRWlFUT09\n\nMeeting ID: 889 6485 5601\nPasscode: 334787
ATTACH;FMTTYPE=image/jpeg:https://cmsweb.org/wp-content/uploads/2018/01/CM
 S_Home-CO-Overlay-2.jpg
CATEGORIES:Meeting
LOCATION:Sturm Auditorium - Denver Botanic Gardens\, 1085 York St\, Denver\
 , CO\, 80206\, United States
X-APPLE-STRUCTURED-LOCATION;VALUE=URI;X-ADDRESS=1085 York St\, Denver\, CO\
 , 80206\, United States;X-APPLE-RADIUS=100;X-TITLE=Sturm Auditorium - Denv
 er Botanic Gardens:geo:0,0
END:VEVENT
END:VCALENDAR