BEGIN:VCALENDAR
VERSION:2.0
PRODID:-//wp-events-plugin.com//7.2.3.1//EN
BEGIN:VEVENT
UID:84@cmsweb.org
DTSTART:20240706T143000Z
DTEND:20240706T203000Z
DTSTAMP:20240702T032746Z
URL:https://cmsweb.org/events/summer-foray-1/
SUMMARY:Summer Foray #1
DESCRIPTION:Saturday\, July 6: CMS members Cindy Li and Lux will lead this 
 foray.  Participants will meet at a location in the Boulder/Nederland are
 a or in West Metro Denver at 8:30am and then carpool to the foray location
 . Information on the exact meetup location will be sent to registered part
 icipants on Wednesday\, July 3rd.\nRegistration is here: https://signup.c
 om/go/UgPaBTF
ATTACH;FMTTYPE=image/jpeg:https://cmsweb.org/wp-content/uploads/2018/01/CM
 S_Home-CO-Overlay-2.jpg
CATEGORIES:Foray
END:VEVENT
END:VCALENDAR