BEGIN:VCALENDAR
VERSION:2.0
PRODID:-//wp-events-plugin.com//7.2.3.1//EN
BEGIN:VEVENT
UID:85@cmsweb.org
DTSTART:20240707T143000Z
DTEND:20240707T203000Z
DTSTAMP:20240702T032827Z
URL:https://cmsweb.org/events/summer-foray-2/
SUMMARY:Summer Foray #2
DESCRIPTION:Saturday\, July 7th: CMS Past-President Greg Sanchez and Jerry 
 Cavallo will lead this foray\, assisted by Bill McGlashan.  Registered pa
 rticipants will meet at a West Metro Denver location at 8:30am and then ca
 rpool for 30 to 45 minutes to the foray spot. Information on the exact mee
 tup location will be sent to registered participants on Wednesday July 3rd
 .\nRegistration is here: https://signup.com/go/DwQtKez
ATTACH;FMTTYPE=image/jpeg:https://cmsweb.org/wp-content/uploads/2018/01/CM
 S_Home-CO-Overlay-2.jpg
CATEGORIES:Foray
END:VEVENT
END:VCALENDAR