BEGIN:VCALENDAR
VERSION:2.0
PRODID:-//wp-events-plugin.com//7.2.3.1//EN
BEGIN:VEVENT
UID:27@cmsweb.org
DTSTART:20230812T150000Z
DTEND:20230812T193000Z
DTSTAMP:20230804T003114Z
URL:https://cmsweb.org/events/summer-foray-2023-saturday-2023-08-12/
SUMMARY:Summer Foray 2023 - Saturday
DESCRIPTION:CMS Member Tom McKinnon\, with assistance from Nina Moreland\, 
 will lead a foray from 9am to 1:30pm. Participants will meet at either a W
 est Metro Denver location or a Boulder/Nederland location before carpoolin
 g to the foray spot. Registration is here: https://signup.com/go/midjkAs
ATTACH;FMTTYPE=image/jpeg:https://cmsweb.org/wp-content/uploads/2018/01/CM
 S_Home-CO-Overlay-2.jpg
CATEGORIES:Foray
END:VEVENT
END:VCALENDAR