BEGIN:VCALENDAR
VERSION:2.0
PRODID:-//wp-events-plugin.com//7.2.3.1//EN
BEGIN:VEVENT
UID:129@cmsweb.org
DTSTART:20240721T143000Z
DTEND:20240721T203000Z
DTSTAMP:20240711T040733Z
URL:https://cmsweb.org/events/summer-foray-2023-sunday-2-2024-07-21/
SUMMARY:Summer Foray 2024 - Sunday
DESCRIPTION:Sunday\, July 21: CMS members will lead this foray from 8:30am 
 to 1:30pm. Participants will meet at a West Denver Metro location at 8:30 
 am and then carpool to the foray location. Information on the exact meetup
  location will be sent to registered participants on Thursday\, July 18.\n
 \nRegistration is here: https://signup.com/go/zYTATGW
ATTACH;FMTTYPE=image/jpeg:https://cmsweb.org/wp-content/uploads/2018/01/CM
 S_Home-CO-Overlay-2.jpg
CATEGORIES:Foray
END:VEVENT
END:VCALENDAR