BEGIN:VCALENDAR
VERSION:2.0
PRODID:-//wp-events-plugin.com//7.2.3.1//EN
BEGIN:VEVENT
UID:131@cmsweb.org
DTSTART:20240804T143000Z
DTEND:20240804T203000Z
DTSTAMP:20240802T190201Z
URL:https://cmsweb.org/events/summer-foray-2023-sunday-2-2024-08-04/
SUMMARY:[Cancelled] Summer Foray 2024 - Sunday
DESCRIPTION:This foray has been cancelled\, please register for one of the 
 other forays this weekend!
ATTACH;FMTTYPE=image/jpeg:https://cmsweb.org/wp-content/uploads/2018/01/CM
 S_Home-CO-Overlay-2.jpg
CATEGORIES:Foray
END:VEVENT
END:VCALENDAR