BEGIN:VCALENDAR
VERSION:2.0
PRODID:-//wp-events-plugin.com//7.2.3.1//EN
BEGIN:VEVENT
UID:132@cmsweb.org
DTSTART:20240809T143000Z
DTEND:20240809T203000Z
DTSTAMP:20240808T035555Z
URL:https://cmsweb.org/events/summer-foray-2023-sunday-2-2024-08-11/
SUMMARY:Summer Foray 2024 - Friday\, August 9
DESCRIPTION:Friday\, August 9\n\nCMS members Alex Merryman and Saadia Naima
 n will co-lead this foray from 8:30am to 1:30pm. Participants will meet at
  a West Denver Metro location at 8:30 am and then carpool to the foray loc
 ation. Information on the exact meetup location will be sent to registered
  participants on Wednesday\, August 7.\n\nRegistration: https://signup.co
 m/go/ZoAZRJg
ATTACH;FMTTYPE=image/jpeg:https://cmsweb.org/wp-content/uploads/2018/01/CM
 S_Home-CO-Overlay-2.jpg
CATEGORIES:Foray
END:VEVENT
END:VCALENDAR