BEGIN:VCALENDAR
VERSION:2.0
PRODID:-//wp-events-plugin.com//7.2.3.1//EN
BEGIN:VEVENT
UID:134@cmsweb.org
DTSTART:20240825T143000Z
DTEND:20240825T203000Z
DTSTAMP:20240819T030324Z
URL:https://cmsweb.org/events/summer-foray-2023-sunday-2-2024-08-25/
SUMMARY:Summer Foray 2024 - Sunday
DESCRIPTION:Sunday\, August 25\nThis CMS foray will be co-led by Saadia N
 aima\, Nephtali Chavez\, and Aash Donthi\, with assistance from Derrick Ko
 o.  The foray meets up at 8:30 and ends at 1:30.\nParticipants will mee
 t at a West Metro Denver location before carpooling to the foray spot.\n
 Information on the exact meetup location will be sent to registered partic
 ipants on Friday\, August 23.\n\nRegistration: https://signup.com/go/QMas
 ihD
ATTACH;FMTTYPE=image/jpeg:https://cmsweb.org/wp-content/uploads/2018/01/CM
 S_Home-CO-Overlay-2.jpg
CATEGORIES:Foray
END:VEVENT
END:VCALENDAR