BEGIN:VCALENDAR
VERSION:2.0
PRODID:-//wp-events-plugin.com//7.2.3.1//EN
BEGIN:VEVENT
UID:56@cmsweb.org
DTSTART:20230813T140000Z
DTEND:20230813T190000Z
DTSTAMP:20230804T003139Z
URL:https://cmsweb.org/events/summer-foray-2023-sunday-2023-08-13/
SUMMARY:Summer Foray 2023 - Sunday
DESCRIPTION:CMS Past President Michael Heim\, assisted by Jerry Cavallo and
  Lori Shindel\, will lead a foray from 8am to 1:00pm. Participants will me
 et at a West Metro Denver location before carpooling to the foray spot.  
 Registration for this foray is limited to CMS members who have not already
  participated in a foray this year.  Do not register if you've already go
 ne out on one of our 2023 forays.  Registration is here: https://signup.c
 om/go/xqOyAsi
ATTACH;FMTTYPE=image/jpeg:https://cmsweb.org/wp-content/uploads/2018/01/CM
 S_Home-CO-Overlay-2.jpg
CATEGORIES:Foray
END:VEVENT
END:VCALENDAR