BEGIN:VCALENDAR
VERSION:2.0
PRODID:-//wp-events-plugin.com//7.2.3.1//EN
BEGIN:VEVENT
UID:58@cmsweb.org
DTSTART:20230827T140000Z
DTEND:20230827T200000Z
DTSTAMP:20230818T211148Z
URL:https://cmsweb.org/events/summer-foray-2023-sunday-2023-08-27/
SUMMARY:Summer Foray 2023 - Sunday
DESCRIPTION:Registration for the following foray opens at 3:00pm on Saturda
 y\, August 19.\nParticipation in this foray is for 2023 first-timers only\
 , so please do not register if you’ve already gone out with us this summ
 er.\nSunday\, August 27: CMS Past-President Greg Sanchez and Joe O'Hallar
 on will lead this foray with assistance from Ryan Hodes.\nRegistered parti
 cipants will meet at a West Metro Denver location at 8:30am and then carpo
 ol for 30 to 45 minutes to the foray spot at 10\,500' to 11\,500'.\nInform
 ation on the exact meetup location will be sent to registered participants
  on Thursday\, August 24th.\nRegistration is here: https://signup.com/go/F
 OYnGnJ
ATTACH;FMTTYPE=image/jpeg:https://cmsweb.org/wp-content/uploads/2018/01/CM
 S_Home-CO-Overlay-2.jpg
CATEGORIES:Foray
END:VEVENT
END:VCALENDAR