BEGIN:VCALENDAR
VERSION:2.0
PRODID:-//wp-events-plugin.com//7.2.3.1//EN
BEGIN:VEVENT
UID:47@cmsweb.org
DTSTART:20230816T143000Z
DTEND:20230816T193000Z
DTSTAMP:20230804T003201Z
URL:https://cmsweb.org/events/summer-foray-2023-wednesday-2023-08-16/
SUMMARY:Summer Foray 2023 - Wednesday
DESCRIPTION:CMS Member Gary Olds will lead this high country (10\,000 ft) f
 oray from 8:30am to 1:30pm. Participants will meet at a West Metro Denver 
 location before carpooling to the foray spot.  Registration is here: http
 s://signup.com/go/AeDnDPu
ATTACH;FMTTYPE=image/jpeg:https://cmsweb.org/wp-content/uploads/2018/01/CM
 S_Home-CO-Overlay-2.jpg
CATEGORIES:Foray
END:VEVENT
END:VCALENDAR