BEGIN:VCALENDAR
VERSION:2.0
PRODID:-//wp-events-plugin.com//7.2.3.1//EN
BEGIN:VEVENT
UID:50@cmsweb.org
DTSTART:20230906T143000Z
DTEND:20230906T200000Z
DTSTAMP:20230829T171845Z
URL:https://cmsweb.org/events/summer-foray-2023-wednesday-2023-09-06/
SUMMARY:Summer Foray 2023 - Wednesday
DESCRIPTION:CMS Members Gary Olds and Mika Kodama-Douglas\nwill lead this f
 oray from 8:30am to 1:30pm.\nParticipants will meet at a West Metro Denver
  location before carpooling to the\nforay spot.\nInformation on the exact 
 meetup location will be sent to registered participants on\nMonday\, Septe
 mber 4.\nRegistration is here: https://signup.com/go/fKDNxdv
ATTACH;FMTTYPE=image/jpeg:https://cmsweb.org/wp-content/uploads/2018/01/CM
 S_Home-CO-Overlay-2.jpg
CATEGORIES:Foray
END:VEVENT
END:VCALENDAR