BEGIN:VCALENDAR
VERSION:2.0
PRODID:-//wp-events-plugin.com//7.2.3.1//EN
BEGIN:VEVENT
UID:142@cmsweb.org
DTSTART:20240817T143000Z
DTEND:20240817T203000Z
DTSTAMP:20240911T202601Z
URL:https://cmsweb.org/events/summer-foray-2024-saturday-2024-08-17/
SUMMARY:Summer Foray 2024 - Saturday
DESCRIPTION:Details to be announced.\n\nDetails will be emailed out and thi
 s event will be updated with a signup link the week before the foray date!
ATTACH;FMTTYPE=image/jpeg:https://cmsweb.org/wp-content/uploads/2018/01/CM
 S_Home-CO-Overlay-2.jpg
CATEGORIES:Foray
END:VEVENT
END:VCALENDAR