BEGIN:VCALENDAR
VERSION:2.0
PRODID:-//wp-events-plugin.com//7.2.3.1//EN
BEGIN:VEVENT
UID:178@cmsweb.org
DTSTART:20250716T143000Z
DTEND:20250716T203000Z
DTSTAMP:20250710T182015Z
URL:https://cmsweb.org/events/summer-foray-2025-wednesday-2025-07-16/
SUMMARY:Summer Foray 2025 - Wednesday
DESCRIPTION:Wednesday\, July 16 (Denver metro meeting location/carpool to l
 ocation) 8:30am - 2pm with Marc Donsky.\n\nSign Up
ATTACH;FMTTYPE=image/jpeg:https://cmsweb.org/wp-content/uploads/2018/01/CM
 S_Home-CO-Overlay-2.jpg
CATEGORIES:Foray
END:VEVENT
END:VCALENDAR