BEGIN:VCALENDAR
VERSION:2.0
PRODID:-//wp-events-plugin.com//7.2.3.1//EN
BEGIN:VEVENT
UID:86@cmsweb.org
DTSTART:20240710T143000Z
DTEND:20240710T203000Z
DTSTAMP:20240702T032846Z
URL:https://cmsweb.org/events/summer-foray-3/
SUMMARY:Summer Foray #3
DESCRIPTION:Wednesday\, July 10: CMS members Miyako Boyett\, Jamie Salomon 
 and Mika Kodama will lead this foray. Participants will meet at 8:30am at 
 a location in Conifer and then carpool to the foray spot. Information on t
 he exact meetup location will be sent to registered participants on Monday
 \, July 8th.\nRegistration is here: https://signup.com/go/dunimPQ
ATTACH;FMTTYPE=image/jpeg:https://cmsweb.org/wp-content/uploads/2018/01/CM
 S_Home-CO-Overlay-2.jpg
CATEGORIES:Foray
END:VEVENT
END:VCALENDAR